BEGIN:VCALENDAR
VERSION:2.0
PRODID:spatie/icalendar-generator
DESCRIPTION:Events from Exopolitika CZ
X-WR-CALDESC:Events from Exopolitika CZ
REFRESH-INTERVAL;VALUE=DURATION:PT1440M
X-PUBLISHED-TTL:PT1440M
BEGIN:VTIMEZONE
TZID:Europe/Prague
BEGIN:DAYLIGHT
DTSTART:20160327T020000Z
TZOFFSETFROM:+0100
TZOFFSETTO:+0200
END:DAYLIGHT
BEGIN:STANDARD
DTSTART:20161030T030000Z
TZOFFSETFROM:+0200
TZOFFSETTO:+0100
END:STANDARD
END:VTIMEZONE
BEGIN:VTIMEZONE
TZID:UTC
BEGIN:STANDARD
DTSTART:20250724T051732Z
TZOFFSETFROM:+0000
TZOFFSETTO:+0000
END:STANDARD
END:VTIMEZONE
BEGIN:VEVENT
UID:29-18
DTSTAMP:20260420T051732Z
SUMMARY:ZRUŠENO! Párty členů a příznivců exopolitiky - v 15:00\, 27.
  srpna 2016 - u Prahy
LOCATION:Praha - soukromá akce pouze pro členy a nejbližší příznivce
ORGANIZER;CN=admin:MAILTO:aholovsky@gmail.com
DTSTART;TZID=Europe/Prague:20160827T150000
DTEND;TZID=Europe/Prague:20160827T210000
X-ALT-DESC;FMTTYPE=TEXT/HTML:ZRUŠENO - Párty členů a příznivců exopo
 litiky - v 15:00\, 27. srpna 2016 - u Prahy Pro nemoc ZRUŠENO. &amp;nbsp\; &amp;n
 bsp\;
CATEGORIES:Party
URL;VALUE=URI:https://www.exopolitika.cz/mc-events/zruseno-party-clenu-a-pr
 iznivcu-exopolitiky-v-1500-27-srpna-2016-u-prahy
METHOD:PUBLISH
END:VEVENT
END:VCALENDAR