BEGIN:VCALENDAR
VERSION:2.0
PRODID:spatie/icalendar-generator
DESCRIPTION:Events from Exopolitika CZ
X-WR-CALDESC:Events from Exopolitika CZ
REFRESH-INTERVAL;VALUE=DURATION:PT1440M
X-PUBLISHED-TTL:PT1440M
BEGIN:VTIMEZONE
TZID:Europe/Prague
BEGIN:DAYLIGHT
DTSTART:20160327T020000Z
TZOFFSETFROM:+0100
TZOFFSETTO:+0200
END:DAYLIGHT
BEGIN:STANDARD
DTSTART:20161030T030000Z
TZOFFSETFROM:+0200
TZOFFSETTO:+0100
END:STANDARD
END:VTIMEZONE
BEGIN:VTIMEZONE
TZID:UTC
BEGIN:STANDARD
DTSTART:20250724T035429Z
TZOFFSETFROM:+0000
TZOFFSETTO:+0000
END:STANDARD
END:VTIMEZONE
BEGIN:VEVENT
UID:33-22
DTSTAMP:20260420T035429Z
SUMMARY:Zaniklé  vyspělé civilizace a pyramidy v ČR - RNDr. et Mgr. Han
 a Sar Blochová - Hradec Králové - 25. září 2016
LOCATION:Hradec Králové
ORGANIZER;CN=admin:MAILTO:aholovsky@gmail.com
DTSTART;TZID=Europe/Prague;VALUE=DATE:20160816
DTEND;TZID=Europe/Prague;VALUE=DATE:20160817
X-ALT-DESC;FMTTYPE=TEXT/HTML:25. 9. v 10:00 – 16:00 HRADEC KRÁLOVÉ\, ho
 tel Černigov\, nedaleko nádraží\, RNDr. et Mgr. Hana Sar Blochová - Z
 aniklé vyspělé civilizace a pyramidy v ČR\, info a REZERVACE: J. Sadil
 ová na tel. 606 477 760 « Na přednášce budou představeny pyramidy na
  našem území a další zaniklé stavby vyspělých civilizací\, jež z
 mizely následkem celosvětových&amp;hellip\;
CATEGORIES:Záhady,  historie,  zakázaná archeologie
URL;VALUE=URI:https://www.exopolitika.cz/mc-events/zanikle-vyspele-civiliza
 ce-a-pyramidy-v-cr-rndr-et-mgr-hana-sar-blochova-hradec-kralove-25-zari-20
 16-2
METHOD:PUBLISH
END:VEVENT
END:VCALENDAR