BEGIN:VCALENDAR
VERSION:2.0
PRODID:spatie/icalendar-generator
DESCRIPTION:Events from Exopolitika CZ
X-WR-CALDESC:Events from Exopolitika CZ
REFRESH-INTERVAL;VALUE=DURATION:PT1440M
X-PUBLISHED-TTL:PT1440M
BEGIN:VTIMEZONE
TZID:Europe/Prague
BEGIN:DAYLIGHT
DTSTART:20160327T020000Z
TZOFFSETFROM:+0100
TZOFFSETTO:+0200
END:DAYLIGHT
BEGIN:STANDARD
DTSTART:20161030T030000Z
TZOFFSETFROM:+0200
TZOFFSETTO:+0100
END:STANDARD
END:VTIMEZONE
BEGIN:VTIMEZONE
TZID:UTC
BEGIN:STANDARD
DTSTART:20250724T041442Z
TZOFFSETFROM:+0000
TZOFFSETTO:+0000
END:STANDARD
END:VTIMEZONE
BEGIN:VEVENT
UID:47-24
DTSTAMP:20260420T041442Z
SUMMARY:Upoutávka: DAVID ICKE WORLD WIDE WAKE UP TOUR 2016 - 8. října 20
 16 - Praha
LOCATION:Praha
ORGANIZER;CN=admin:MAILTO:aholovsky@gmail.com
DTSTART;TZID=Europe/Prague;VALUE=DATE:20160901
DTEND;TZID=Europe/Prague;VALUE=DATE:20160902
X-ALT-DESC;FMTTYPE=TEXT/HTML:Upoutávka: DAVID ICKE WORLD WIDE WAKE UP TOUR
  2016 - 8. října 2016 - Praha 8.10.2016 Celodenní seminář 10:00 - 22:
 00 hod (s přestávkami a pauzou na oběd) Místo konání: Lucerna - Velk
 ý sál\, Štěpánská 61\, Praha 1 OBSAH CELODENNÍHO SEMINÁŘE Britsk
 ý spisovatel a myslitel David Icke již 25 let odhaluje šokující tajem
 ství a zatajované&amp;hellip\;
CATEGORIES:Exopolitika
URL;VALUE=URI:https://www.exopolitika.cz/mc-events/upoutavka-david-icke-wor
 ld-wide-wake-up-tour-2016-8-rijna-2016-praha-2
METHOD:PUBLISH
END:VEVENT
END:VCALENDAR