BEGIN:VCALENDAR
VERSION:2.0
PRODID:spatie/icalendar-generator
DESCRIPTION:Events from Exopolitika CZ
X-WR-CALDESC:Events from Exopolitika CZ
REFRESH-INTERVAL;VALUE=DURATION:PT1440M
X-PUBLISHED-TTL:PT1440M
BEGIN:VTIMEZONE
TZID:Europe/Prague
BEGIN:STANDARD
DTSTART:20151025T030000Z
TZOFFSETFROM:+0200
TZOFFSETTO:+0100
END:STANDARD
BEGIN:DAYLIGHT
DTSTART:20160327T020000Z
TZOFFSETFROM:+0100
TZOFFSETTO:+0200
END:DAYLIGHT
END:VTIMEZONE
BEGIN:VTIMEZONE
TZID:UTC
BEGIN:STANDARD
DTSTART:20250730T034409Z
TZOFFSETFROM:+0000
TZOFFSETTO:+0000
END:STANDARD
END:VTIMEZONE
BEGIN:VEVENT
UID:18-11
DTSTAMP:20260426T034409Z
SUMMARY:Pravidelné setkání členů a příznivců exopolitiky v Praze - 
 21. března 2016 - od 17:00 hod.
LOCATION:Praha
ORGANIZER;CN=Karel Rašín:MAILTO:rasin.k@seznam.cz
DTSTART;TZID=Europe/Prague:20160321T170000
DTEND;TZID=Europe/Prague:20160321T180000
X-ALT-DESC;FMTTYPE=TEXT/HTML:Pravidelné setkání členů a příznivců e
 xopolitiky v Praze - v pondělí 21. března 2016 - od 17:00 hod. Členov
 é a příznivci exopolitiky se pravidelně jednou měsíčně scházejí 
 - většinou v Praze. Na schůzce se diskutuje o exopolitických\, záhado
 logických a příbuzných tématech - ve zvoleném prostředí je možnos
 t zakoupit si zdravé nápoje a občerstvení. Noví zájemci&amp;hellip\;
CATEGORIES:Exopolitika
URL;VALUE=URI:https://www.exopolitika.cz/mc-events/pravidelne-setkani-clenu
 -a-priznivcu-exopolitiky-v-praze-21-brezna-2016-od-1700-hod
METHOD:PUBLISH
END:VEVENT
END:VCALENDAR